BEGIN:VCALENDAR
VERSION:2.0
PRODID:-//Centrum Tu i Teraz - ECPv6.15.20//NONSGML v1.0//EN
CALSCALE:GREGORIAN
METHOD:PUBLISH
X-ORIGINAL-URL:https://www.centrumtuiteraz.pl
X-WR-CALDESC:Wydarzenia dla Centrum Tu i Teraz
REFRESH-INTERVAL;VALUE=DURATION:PT1H
X-Robots-Tag:noindex
X-PUBLISHED-TTL:PT1H
BEGIN:VTIMEZONE
TZID:Europe/Warsaw
BEGIN:DAYLIGHT
TZOFFSETFROM:+0100
TZOFFSETTO:+0200
TZNAME:CEST
DTSTART:20250330T010000
END:DAYLIGHT
BEGIN:STANDARD
TZOFFSETFROM:+0200
TZOFFSETTO:+0100
TZNAME:CET
DTSTART:20251026T010000
END:STANDARD
BEGIN:DAYLIGHT
TZOFFSETFROM:+0100
TZOFFSETTO:+0200
TZNAME:CEST
DTSTART:20260329T010000
END:DAYLIGHT
BEGIN:STANDARD
TZOFFSETFROM:+0200
TZOFFSETTO:+0100
TZNAME:CET
DTSTART:20261025T010000
END:STANDARD
BEGIN:DAYLIGHT
TZOFFSETFROM:+0100
TZOFFSETTO:+0200
TZNAME:CEST
DTSTART:20270328T010000
END:DAYLIGHT
BEGIN:STANDARD
TZOFFSETFROM:+0200
TZOFFSETTO:+0100
TZNAME:CET
DTSTART:20271031T010000
END:STANDARD
END:VTIMEZONE
BEGIN:VEVENT
DTSTART;TZID=Europe/Warsaw:20260208T180000
DTEND;TZID=Europe/Warsaw:20260208T210000
DTSTAMP:20260423T103248
CREATED:20251019T153217Z
LAST-MODIFIED:20260205T160432Z
UID:5776-1770573600-1770584400@www.centrumtuiteraz.pl
SUMMARY:Szczęśliwa Kobieta – droga odkrywania siebie i świadomości. Warsztaty Jogi Kundalini i arteterapii.
DESCRIPTION:Zapraszam Cię na transformujące warsztaty dla Kobiet\, w formie praktyki.Każde spotkanie będzie poświęcone innemu aspektowi Twojej drogi do samopoznania.Możesz dołączyć w dowolnym momencie\, uczestnicząc w pojedynczych warsztatach lub całym cyklu.\nNie ma znaczenia Twoje doświadczenie\, wiek czy kondycja – liczy się jedynie Twoja OTWARTOŚĆ NA:\n\npoznanie siebie\,\nświadomość\nrozluźnienie\, w którym szczęście jest stanem świadomości\, sposobem\, w jaki interpretujesz doświadczenia i jak na nie reagujesz. Jest to stan spokoju i sensu.\n\nNa tych warsztatach nauczysz się\, jak: \n\nOdkryć swoje prawdziwe potrzeby oraz potencjał\nAkceptować każdą część swojej istoty\nUwalniać blokujące emocje i przekonania\, które Cię ograniczają\nRozluźnić napięcia w ciele i uspokoić umysł\nWzmacniać swój układ nerwowy i odporność na stres\nByć wdzięczną\, za to\, że jesteś i kim jesteś. Za wszystkie doświadczenia życiowe\, które Cię ukształtowały i rozwijały.\nDbać o najważniejszą relację jaką masz\, czyli z samą sobą – co przekłada się na wszystkie nasze relacje. Otwarte serce na siebie\, zrozumienie\, delikatność i czułość otwiera na innych\, przynosi szacunek do każdej istoty.\n\nŚwiadomość siebie prowadzi do głębszej akceptacji i miłości.To droga\, która wymaga odwagi\, cierpliwości i szczerego spojrzenia w głąb siebie. \n\nTo proces\, w którym uczysz się akceptować wszystkie aspekty siebie – zarówno te piękne\, jak i te trudne.\nZrozumiesz\, że Twoje myśli kształtują Twoją rzeczywistość\, a prawdziwa zmiana zaczyna się od wewnątrz – od zmiany postrzegania. Od zmiany swoich przekonań i wzorców\, bo wszystko\, czego potrzebujesz – już masz.\nW procesie zmiany niczego nie musisz szukać\, czy dodawać\nGdy otwierasz serce na miłość do siebie\, pozwalasz ocenie i osądowi zmienić się w obserwację\, krytykę w akceptację.\nZapraszam Cię na warsztaty w formie praktyki.\nPomiędzy warsztatami będziemy motywować się do systematycznej praktyki i samopoznania (np. oddech\, wdzięczność\, samoobserwacja)\, gdyż to jest proces. I ważne jest\, żeby przełożyć praktykę „na macie” w codzienności\, poprzez świadome i uważne życie.\n\nSkorzystamy z:\n \n\nJogi Kundalini\,\nArteterapii\,\nŚwiadomego ruchu\, oddechu\, dźwięku\,\nRelaksu i medytacji\,\nTechnik uwalniania zablokowanych emocji i przekonań.\n\n\nKIEDY: \n\n8 lutego (niedziela)\, 18:00 – 21:00.Jestem miłością.\n\n\nMIEJSCE:Akademia Dobrego ŻyciaGdańsk (Oliwa)\, ul. Żeromskiego 1-2https://maps.app.goo.gl/gNPvrwNXznc2puGk7\nPARING:Miejski przed budynkiem i w pobliżu\nNWESTYCJA:180 zł pojedyncze spotkanie\nZAPISY I INFORMACJE:WhatsApp/ Tel/ sms: 505 082 817 (Aneta Paluszkiewicz)\n\nPRZYGOTOWANIE DO ZAJĘĆ:Potrzebujesz:\n\nWygodnego stroju w czasie kiedy będziesz praktykować\,\nNa miejscu są maty\, koce i poduszki. Możesz też mieć swój sprzęt.\nOpcjonalnie butelka do wody.\nNa miejscu będzie woda\, herbata.\n\nPROWADZĄCA:ANETA PALUSZKIEWICZ:JESTEM…..Radosną dusząDoświadczamOdczuwamŻyję najlepiej jak potrafię\nJESTEM … nauczycielką Jogi Kundalini\, instruktorką terapii przez sztukę\, instruktorką pilates core\, współtwórczynią podcastów\, wolontariuszką w hospicjach\, pasjonatką podróży\, miłośniczką fotografii\, kolekcjonerką dobrych chwil oraz drobnych radości\, celebrującą życie takim\, jakim jest.\nPrzez ponad 23 lata pracowałam w korporacjach\, z czego ok.18 lat na stanowiskach menadżerskich. Byłam dyrektorem w centrach obsługi klientów\, audytorem i pełnomocnikiem zarządów ds. jakości.Po zakończeniu pracy w korporacji zostałam menadżerką Akademii Świadomego Człowieka\, następnie współtworzyłam centrum rozwojowe również w Gdańsku.\nObecnie prowadzę własną działalność\, regularne zajęcia i warsztaty Jogi Kundalini\, arteterapii i uzdrawiania poprzez ruch\, oddech\, dźwięk i medytacje. Dzieląc się pięknymi i skutecznymi praktykami\, których sama doświadczam i które Wam z całego serca polecam i dzięki której przez cały czas się uczę i rozwijam.\nWIĘCEJ INFORMACJI o WARTOŚCIACH\, O MNIE I ZAJĘCIACH:PODCAST: www.youtube.com/watch?v=nr64j6ym1vE&t=148sWYWIAD: www.youtube.com/watch?v=lIoMC-7ndJo&t=482s\nINFORMACJE NA WWW:www.centrumtuiteraz.pl/idea-i-wartosci/www.centrumtuiteraz.pl/joga-kundalini/www.centrumtuiteraz.pl/arteterapia/www.centrumtuiteraz.pl/ja-jestem/\nDo zobaczenia\,Aneta PaluszkiewiczTu i Teraz. Harmonia ciała\, serca i umysłu.www.centrumtuiteraz.plwww.facebook.com/CentrumTuiTerazTel. 505 082 817
URL:https://www.centrumtuiteraz.pl/event/szczesliwa-kobieta-droga-odkrywania-siebie-i-swiadomosci-warsztaty-jogi-kundalini-i-arteterapii-4/
LOCATION:Akademia Dobrego Życia\, Żeromskiego 1-2\, Gdańsk\, pomorskie\, 80-319
ATTACH;FMTTYPE=image/png:https://www.centrumtuiteraz.pl/wp-content/uploads/2025/10/Andrzejki-w-jogowym-stylu-2024-–-kopia-Reklama-na-Facebooka-–-kopia-2.png
END:VEVENT
END:VCALENDAR